BEGIN:VCALENDAR
PRODID:-//eluceo/ical//2.0/EN
VERSION:2.0
CALSCALE:GREGORIAN
BEGIN:VEVENT
UID:012f25fe34e9d14a41950a69066f861f
DTSTAMP:20260424T140734Z
SUMMARY:KBH Annual Outdoor Chanukiyah Lighting and Celebration
DESCRIPTION:Tidewater Jewish Foundation\nCalendar\nhttps://foundation.jewis
 hva.org/calendar/kbh-annual-outdoor-chanukiyah-lighting-and-celebration-16
 96450899-449708\n\nKehillat Bet Hamidrash/Kempsville Conservative Synagogu
 e&#39\;s annual outdoor Chanukiyah lighting and Chanukah celebration. Chan
 ukah treats and fun!
DTSTART;TZID=America/New_York:20231214T170000
DTEND;TZID=America/New_York:20231214T190000
END:VEVENT
END:VCALENDAR
