BEGIN:VCALENDAR
PRODID:-//eluceo/ical//2.0/EN
VERSION:2.0
CALSCALE:GREGORIAN
BEGIN:VEVENT
UID:df615941f937c09eb96c4e4743a1ac1b
DTSTAMP:20260421T014109Z
SUMMARY:KBH Board Meeting
DESCRIPTION:Tidewater Jewish Foundation\nCalendar\nhttps://foundation.jewis
 hva.org/calendar/kbh-board-meeting-1633660238-391083\n\nKehillat Bet Hamid
 rash/Kempsville Conservative Synagogue&#39\;s monthly board meeting.
DTSTART;TZID=America/New_York:20211012T190000
DTEND;TZID=America/New_York:20211012T203000
END:VEVENT
END:VCALENDAR
