BEGIN:VCALENDAR
PRODID:-//eluceo/ical//2.0/EN
VERSION:2.0
CALSCALE:GREGORIAN
BEGIN:VEVENT
UID:9b3d6b6d88746c4d7614dff3ea33d731
DTSTAMP:20260425T164235Z
SUMMARY:KBH/Temple Israel Annual Adult Ed Program: Israel's Roots and Fruit
 s
DESCRIPTION:Tidewater Jewish Foundation\nCalendar\nhttps://foundation.jewis
 hva.org/calendar/kbhtemple-israel-416219\n\nDigging for Israel&#39\;s Root
 s\n\n \n\nKBH/Temple Israel Annual Adult Ed program: Israel&#39\;s Roots
  and Fruits (in honor of Israel&#39\;s 75th)\n\n \n\nPresented by Rabbi M
 ichael Panitz\, via zoom\n\n\n \n\n 
DTSTART;TZID=America/New_York:20230124T193000
DTEND;TZID=America/New_York:20230124T210000
END:VEVENT
END:VCALENDAR
