BEGIN:VCALENDAR
PRODID:-//eluceo/ical//2.0/EN
VERSION:2.0
CALSCALE:GREGORIAN
BEGIN:VEVENT
UID:5b7ae8bfa14392063bad2ba690a2698a
DTSTAMP:20260422T030829Z
SUMMARY:Kids Night Out
DESCRIPTION:Tidewater Jewish Foundation\nCalendar\nhttps://foundation.jewis
 hva.org/calendar/kids-night-out-6-446992\n\nDetails to follow
DTSTART;TZID=America/New_York:20240224T180000
DTEND;TZID=America/New_York:20240224T220000
END:VEVENT
END:VCALENDAR
