BEGIN:VCALENDAR
PRODID:-//eluceo/ical//2.0/EN
VERSION:2.0
CALSCALE:GREGORIAN
BEGIN:VEVENT
UID:acabccd9e8f393eba0a005eeefddc56a
DTSTAMP:20260420T131906Z
SUMMARY:Kids Night Out
DESCRIPTION:Tidewater Jewish Foundation\nCalendar\nhttps://foundation.jewis
 hva.org/calendar/kids-night-out-8-446994\n\nNeed a date night?\n\nKids Nig
 ht Out is a fun night for everyone! Kids will enjoy a night full of games\
 , crafts\, snacks\, and swimming. Saturday Nights\, from 6-10 PM.\n\nFor J
 CC Members | Children aged 4 to 12\n$20 per child/$15 for siblings (max $5
 0/household)\n\nPotential JCC Members | Children aged 4 to 12\n$25 per chi
 ld/$20 for siblings (max $65/household)\n\nRegister Today
DTSTART;TZID=America/New_York:20240316T180000
DTEND;TZID=America/New_York:20240316T220000
END:VEVENT
END:VCALENDAR
