BEGIN:VCALENDAR
PRODID:-//eluceo/ical//2.0/EN
VERSION:2.0
CALSCALE:GREGORIAN
BEGIN:VEVENT
UID:f3f47acc7403b66d750baecb1a37639e
DTSTAMP:20260421T140948Z
SUMMARY:POSTPONED - Liel Leibovitz
DESCRIPTION:Tidewater Jewish Foundation\nCalendar\nhttps://foundation.jewis
 hva.org/calendar/konikoff-center-for-learning-program-1687548044-441458\n\
 nLiel Leibovitz - How the Talmud Can Change Your Life: Surprisingly Modern
  Advice from a Very Old Book\n\nDue to unforeseen circumstances\, this eve
 nt has been postponed.  \n\nRegister for April 3\, 2025
DTSTART;TZID=America/New_York:20240314T193000
DTEND;TZID=America/New_York:20240314T203000
END:VEVENT
END:VCALENDAR
