BEGIN:VCALENDAR
PRODID:-//eluceo/ical//2.0/EN
VERSION:2.0
CALSCALE:GREGORIAN
BEGIN:VEVENT
UID:a47ca90244dc4013ad5de80af9016b8a
DTSTAMP:20260426T034051Z
SUMMARY:Last Day of SIA
DESCRIPTION:Tidewater Jewish Foundation\nCalendar\nhttps://foundation.jewis
 hva.org/calendar/last-day-of-sia-1667415363-421104\n\nLast day of school f
 or SIA
DTSTART;TZID=America/New_York:20230607T120000
DTEND;TZID=America/New_York:20230607T120000
END:VEVENT
END:VCALENDAR
