BEGIN:VCALENDAR
PRODID:-//eluceo/ical//2.0/EN
VERSION:2.0
CALSCALE:GREGORIAN
BEGIN:VEVENT
UID:6780c73c8759472eb41aade9c53f5d37
DTSTAMP:20260426T014900Z
SUMMARY:Lecture on Jewish roots of Modern American ST-Architects
DESCRIPTION:Tidewater Jewish Foundation\nCalendar\nhttps://foundation.jewis
 hva.org/calendar/lecture-on-jewish-roots-of-modern-american-st-architects-
 1668049697-421605\n\nRichard Rivin\, an architect and Portsmouth native wi
 ll lecture on Jewish architects recognized both nationally and internation
 ally and their impact on the architectural profession.
DTSTART;TZID=America/New_York:20221120T150000
DTEND;TZID=America/New_York:20221120T163000
END:VEVENT
END:VCALENDAR
