BEGIN:VCALENDAR
PRODID:-//eluceo/ical//2.0/EN
VERSION:2.0
CALSCALE:GREGORIAN
BEGIN:VEVENT
UID:fb86b229d8049a5d223edd32e4b4d676
DTSTAMP:20260422T135424Z
SUMMARY:Diana Fersko - We Need to Talk About Antisemitism
DESCRIPTION:Tidewater Jewish Foundation\nCalendar\nhttps://foundation.jewis
 hva.org/calendar/lee--bernard--jaffe-family-jewish-book-festival-program-1
 683570091-437339\n\nDiana Fersko - We Need to Talk About Antisemitism\n\n
  \n\nPlease allow information to load below.
DTSTART;TZID=America/New_York:20231023T193000
DTEND;TZID=America/New_York:20231023T210000
END:VEVENT
END:VCALENDAR
