BEGIN:VCALENDAR
PRODID:-//eluceo/ical//2.0/EN
VERSION:2.0
CALSCALE:GREGORIAN
BEGIN:VEVENT
UID:b4a169271dc208148c8c47788a406ed1
DTSTAMP:20260422T040108Z
SUMMARY:Marjorie Ingall - Sorry\, Sorry\, Sorry
DESCRIPTION:Tidewater Jewish Foundation\nCalendar\nhttps://foundation.jewis
 hva.org/calendar/lee--bernard--jaffe-family-jewish-book-festival-program-1
 683570541-448139\n\nMarjorie Ingall - Sorry\, Sorry\, Sorry: The Case for 
 Good Apologies\n\n \n\n(please allow information below to load)
DTSTART;TZID=America/New_York:20231116T193000
DTEND;TZID=America/New_York:20231116T210000
END:VEVENT
END:VCALENDAR
