BEGIN:VCALENDAR
PRODID:-//eluceo/ical//2.0/EN
VERSION:2.0
CALSCALE:GREGORIAN
BEGIN:VEVENT
UID:0ec770c2f5d2136326142477321f175f
DTSTAMP:20260422T040118Z
SUMMARY:Benyamin Cohen - The Einstein Effect
DESCRIPTION:Tidewater Jewish Foundation\nCalendar\nhttps://foundation.jewis
 hva.org/calendar/lee-and-bernard-jaffe-family-jewish-book-festival-program
 -1690491063-444372\n\nBenyamin Cohen - The Einstein Effect: How the World&
 #39\;s Favorite Genius Got into Our Cars\, Our Bathrooms\, and Our Minds\n
 \n \n\n(please wait for information to load below)
DTSTART;TZID=America/New_York:20231102T120000
DTEND;TZID=America/New_York:20231102T130000
END:VEVENT
END:VCALENDAR
