BEGIN:VCALENDAR
PRODID:-//eluceo/ical//2.0/EN
VERSION:2.0
CALSCALE:GREGORIAN
BEGIN:VEVENT
UID:8c5a6b0ab014b2bb9a3d1465e3b6bd34
DTSTAMP:20260420T235542Z
SUMMARY:JCC Book Club - Seth Stern
DESCRIPTION:Tidewater Jewish Foundation\nCalendar\nhttps://foundation.jewis
 hva.org/calendar/lee-and-bernard-jaffe-family-jewish-book-festival-program
 -1692822095-446454\n\nSeth Stern - Speaking Yiddish to Chickens: Holocaust
  Survivors on South Jersey Poultry Farms\n\n\nJBC Author Event\n\nJoin us 
 for a discussion and online conversation with the author.\n\nIf you enjoy 
 reading and discussing books with others\, this group is for you. The disc
 ussions are lively\, informative and at times\, soul-searching.\n\nThird M
 onday of each month\n1:30 PM – 3:00 PM\nIn-person or via Zoom\nPrice: Fr
 ee\n\nRSVP to Mia Klein at 757-452-3184 or MKlein@UJFT.org\n\n 
DTSTART;TZID=America/New_York:20240219T133000
DTEND;TZID=America/New_York:20240219T143000
END:VEVENT
END:VCALENDAR
