BEGIN:VCALENDAR
PRODID:-//eluceo/ical//2.0/EN
VERSION:2.0
CALSCALE:GREGORIAN
BEGIN:VEVENT
UID:25ef52d670e685ab051e20515d34dd3b
DTSTAMP:20260420T235300Z
SUMMARY:Love\, Loss\, Wisdom: A Melton Class at OST
DESCRIPTION:Tidewater Jewish Foundation\nCalendar\nhttps://foundation.jewis
 hva.org/calendar/love-loss-wisdom-a-melton-class-at-ost-1699545073-452262\
 n\nDiscover\, during this six-week course\, the Jewish responses and ritua
 ls that take us through mourning and arrive at a place of healing. When de
 ath inevitably enters our lives\, Jewish wisdom and ritual can help us cop
 e with heartbreak and loss\, the anguish of why suffering exists. We will 
 also seek to understand the big questions of what Judaism says about life 
 after death and its understanding of messianic times. With a wider lens\, 
 we gain a context with which to better understand our...
DTSTART;TZID=America/New_York:20240201T190000
DTEND;TZID=America/New_York:20240201T203000
END:VEVENT
END:VCALENDAR
