BEGIN:VCALENDAR
PRODID:-//eluceo/ical//2.0/EN
VERSION:2.0
CALSCALE:GREGORIAN
BEGIN:VEVENT
UID:cb4c5cf076c81cd44f50af9ab5a7ca0b
DTSTAMP:20260423T020845Z
SUMMARY:Lunch & Learn with Rabbi Ari
DESCRIPTION:Tidewater Jewish Foundation\nCalendar\nhttps://foundation.jewis
 hva.org/calendar/lunch--learn-with-rabbi-ari-1706049444-458407\n\nJoin Rab
 bi Ari for Lunch & Learn about Judaism on the the 2nd Thursday of each mon
 th at 12:00 pm.\nDelve into enriching discussions and community insights.\
 n$8 lunch is optional.
DTSTART;TZID=America/New_York:20240208T120000
DTEND;TZID=America/New_York:20240208T133000
END:VEVENT
END:VCALENDAR
