BEGIN:VCALENDAR
PRODID:-//eluceo/ical//2.0/EN
VERSION:2.0
CALSCALE:GREGORIAN
BEGIN:VEVENT
UID:fba31d7915c64b0c887b6171f01fe1ef
DTSTAMP:20260425T212420Z
SUMMARY:Matisse's Southern Ladies: Etta and Claribel Cone
DESCRIPTION:Tidewater Jewish Foundation\nCalendar\nhttps://foundation.jewis
 hva.org/calendar/matisses-southern-ladies-etta-and-claribel-cone-167357981
 9-429021\n\nLeonard Rogoff\, president and historian of the Jewish Heritag
 e North Carolina organization will lecture on the art collectors Etta and 
 Claribel Cohn at The Jewish Museum and Cultural Center on Sunday\, Februar
 y 12\, 2023\, at 3:00 p.m. Tickets are $20.
DTSTART;TZID=America/New_York:20230212T150000
DTEND;TZID=America/New_York:20230212T170000
END:VEVENT
END:VCALENDAR
