BEGIN:VCALENDAR
PRODID:-//eluceo/ical//2.0/EN
VERSION:2.0
CALSCALE:GREGORIAN
BEGIN:VEVENT
UID:57f78efb8a5ba72794cd505281bd9787
DTSTAMP:20260423T203540Z
SUMMARY:Meg Waite Clayton - Jewish Book Festival
DESCRIPTION:Tidewater Jewish Foundation\nCalendar\nhttps://foundation.jewis
 hva.org/calendar/meg-Clayton-jewish-book-festival-1654624732-408725\n\nThe
  Postmistress of Paris\nVirtual - Watch from home\, Link provided on regis
 tration\n\nThis haunting novel revisits the dark early days of the German 
 occupation in France\, a love story and a tale of high-stakes danger and i
 ncomparable courage.\n\nA young American heiress from Chicago\, Naneé\, h
 elps artists hunted by the Nazis escape from war-torn Europe. Known as the
  Postmistress because she delivers information to those in hiding\, Naneé
  uses her charms and skill to house the hunted and deli...
DTSTART;TZID=America/New_York:20230606T120000
DTEND;TZID=America/New_York:20230606T130000
END:VEVENT
END:VCALENDAR
