BEGIN:VCALENDAR
PRODID:-//eluceo/ical//2.0/EN
VERSION:2.0
CALSCALE:GREGORIAN
BEGIN:VEVENT
UID:464b21827348c187d242b06f01c6e14b
DTSTAMP:20260421T235044Z
SUMMARY:Melton: Jewish Medical Ethics
DESCRIPTION:Tidewater Jewish Foundation\nCalendar\nhttps://foundation.jewis
 hva.org/calendar/melton-jewish-medical-ethics-446800\n\nSurrogacy. Signifi
 cant progress — but thorny ethical issues. Modern medical advances can i
 mprove and prolong life but also raise dilemmas about its sanctity and dig
 nity — and Judaism has a lot to say about it. \n\nThis 10-session cours
 e explores the positive\, negative\, beneficial\, and detrimental aspects 
 of the new technologies in the medical field and the wisdom Judaism offers
  us in our encounters with them. \n\nThe course was designed and written 
 by world-renowned medical ethicist\, Ra...
DTSTART;TZID=America/New_York:20230927T184500
DTEND;TZID=America/New_York:20230927T204500
END:VEVENT
END:VCALENDAR
