BEGIN:VCALENDAR
PRODID:-//eluceo/ical//2.0/EN
VERSION:2.0
CALSCALE:GREGORIAN
BEGIN:VEVENT
UID:d6ec1a28a2201e31186d6c847b3b4c2f
DTSTAMP:20260425T212426Z
SUMMARY:Melton: Jews in America\, Insiders and Outsiders
DESCRIPTION:Tidewater Jewish Foundation\nCalendar\nhttps://foundation.jewis
 hva.org/calendar/melton-jews-in-america-insiders-and-outsiders-1657140890-
 411206\n\nOur version of a Jewish-American “Stuff You Missed in History 
 Class”! In 10 engaging sessions\, learners will discuss seminal developm
 ents in American life\, such as the Jewish contributions to American cultu
 re\, American literature\, and the Civil Rights Movement\, through the len
 s of Jews straddling their status as both insiders and outsiders. The cour
 se will also examine antisemitism and the Holocaust\, and the changing pla
 ce of Zionism in the shaping of Jewish American identity. Sharing tal...
DTSTART;TZID=America/New_York:20230118T184500
DTEND;TZID=America/New_York:20230118T203000
END:VEVENT
END:VCALENDAR
