BEGIN:VCALENDAR
PRODID:-//eluceo/ical//2.0/EN
VERSION:2.0
CALSCALE:GREGORIAN
BEGIN:VEVENT
UID:2a25d4ba4e709a31e4b767a861a5e087
DTSTAMP:20260423T210012Z
SUMMARY:Memorial Day
DESCRIPTION:Tidewater Jewish Foundation\nCalendar\nhttps://foundation.jewis
 hva.org/calendar/memorial-day-23-412617\n\n+
DTSTART;TZID=America/New_York:20230529T000000
DTEND;TZID=America/New_York:20230529T235959
END:VEVENT
END:VCALENDAR
