BEGIN:VCALENDAR
PRODID:-//eluceo/ical//2.0/EN
VERSION:2.0
CALSCALE:GREGORIAN
BEGIN:VEVENT
UID:6ac44c1a5aad73c5da8164f1dd9e01b1
DTSTAMP:20260423T135910Z
SUMMARY:Menorahs and Martinis
DESCRIPTION:Tidewater Jewish Foundation\nCalendar\nhttps://foundation.jewis
 hva.org/calendar/menorahs-and-martinis-1698767616-451248\n\nEnjoy martinis
  and creating a beautiful stone Menorah. ( women only)
DTSTART;TZID=America/New_York:20231205T190000
DTEND;TZID=America/New_York:20231205T203000
END:VEVENT
END:VCALENDAR
