BEGIN:VCALENDAR
PRODID:-//eluceo/ical//2.0/EN
VERSION:2.0
CALSCALE:GREGORIAN
BEGIN:VEVENT
UID:c8b905dcde4f3ffb7ef529a92379966e
DTSTAMP:20260424T045115Z
SUMMARY:Mens Pick Up Basketball
DESCRIPTION:Tidewater Jewish Foundation\nCalendar\nhttps://foundation.jewis
 hva.org/calendar/mens-pick-up-basketball-444232\n\nContact Danny Rubin for
  details: dannyh.rubin@gmail.com
DTSTART;TZID=America/New_York:20230806T080000
DTEND;TZID=America/New_York:20230806T100000
END:VEVENT
END:VCALENDAR
