BEGIN:VCALENDAR
PRODID:-//eluceo/ical//2.0/EN
VERSION:2.0
CALSCALE:GREGORIAN
BEGIN:VEVENT
UID:ffc1db17350aeeeb970188893b4a707f
DTSTAMP:20260424T164513Z
SUMMARY:Middle School Kick Off
DESCRIPTION:Tidewater Jewish Foundation\nCalendar\nhttps://foundation.jewis
 hva.org/calendar/middle-school-kick-off-1694635956-448156\n\nYou are invit
 ed to our Middle School Kick Off!\n\n \n\n(Please allow info below to loa
 d)
DTSTART;TZID=America/New_York:20231016T180000
DTEND;TZID=America/New_York:20231016T191500
END:VEVENT
END:VCALENDAR
