BEGIN:VCALENDAR
PRODID:-//eluceo/ical//2.0/EN
VERSION:2.0
CALSCALE:GREGORIAN
BEGIN:VEVENT
UID:768d29537b88037436f7eefd70fad087
DTSTAMP:20260423T135845Z
SUMMARY:Middle School Night at Admirals
DESCRIPTION:Tidewater Jewish Foundation\nCalendar\nhttps://foundation.jewis
 hva.org/calendar/middle-school-night-at-admirals-1694637040-448163\n\nMidd
 le School Night at Admirals. \n\nPlease allow a moment for the widget bel
 ow to load.\n\n 
DTSTART;TZID=America/New_York:20240120T180000
DTEND;TZID=America/New_York:20240120T200000
END:VEVENT
END:VCALENDAR
