BEGIN:VCALENDAR
PRODID:-//eluceo/ical//2.0/EN
VERSION:2.0
CALSCALE:GREGORIAN
BEGIN:VEVENT
UID:f36ac0374e15b453fa6b0c3bf3c74002
DTSTAMP:20260424T110213Z
SUMMARY:Middle School Spring Lock-In
DESCRIPTION:Tidewater Jewish Foundation\nCalendar\nhttps://foundation.jewis
 hva.org/calendar/middle-school-spring-lock-in-1683043959-436845\n\nCalling
  all Middle Schoolers! All 6th-8th graders are invited to join us\, at the
  Simon Family JCC\, for a Saturday evening with friends and fun after hour
 s. After pizza dinner and havdallah\, we will be swimming and enjoying a m
 ovie together. Bring a bathing suit and towel and we we&#39\;ll bring the 
 pizza and popcorn to the party!\n\nSaturday\, May 20th\, 6-10pm. Simon Fam
 ily JCC\n\nRegistration is FREE\, but LIMITED\, so register today! For mor
 e information\, please contact Dave Flagler at dflagler@ujf...
DTSTART;TZID=America/New_York:20230520T180000
DTEND;TZID=America/New_York:20230520T220000
END:VEVENT
END:VCALENDAR
