BEGIN:VCALENDAR
PRODID:-//eluceo/ical//2.0/EN
VERSION:2.0
CALSCALE:GREGORIAN
BEGIN:VEVENT
UID:113466e76ebbf592ff1168d6e629610f
DTSTAMP:20260421T161256Z
SUMMARY:Modern Western Square Dance
DESCRIPTION:Tidewater Jewish Foundation\nCalendar\nhttps://foundation.jewis
 hva.org/calendar/modern-western-square-dance-1700072903-452286\n\nLearn mo
 dern western square dancing at Temple Emanuel.\nNo experience necessary.\n
 Come join the fun!
DTSTART;TZID=America/New_York:20240120T190000
DTEND;TZID=America/New_York:20240120T210000
END:VEVENT
END:VCALENDAR
