BEGIN:VCALENDAR
PRODID:-//eluceo/ical//2.0/EN
VERSION:2.0
CALSCALE:GREGORIAN
BEGIN:VEVENT
UID:5a35590c6ea2802997293d5ccc0809b9
DTSTAMP:20260423T185111Z
SUMMARY:Moon Circle
DESCRIPTION:Tidewater Jewish Foundation\nCalendar\nhttps://foundation.jewis
 hva.org/calendar/moon-circle-1690467408-444283\n\nMoon Circle: A monthly g
 athering to connect more deeply with ourselves\, each other and the sacred
  flow of the Hebrew calendar.\n\nWe invite you into a tradition that spans
  thousands of years: a monthly holiday known as Rosh Chodesh\, meaning "he
 ad of the month". In the Jewish tradition\, each month begins with a new m
 oon\, and the Hebrew calendar is the way the Jewish people have kept time 
 for millennia.\n\nFor the past few centuries\, Rosh Chodesh has been one o
 f Judaism&#39\;s best-kept secrets. We&#39\;...
DTSTART;TZID=America/New_York:20230817T184500
DTEND;TZID=America/New_York:20230817T201500
END:VEVENT
END:VCALENDAR
