BEGIN:VCALENDAR
PRODID:-//eluceo/ical//2.0/EN
VERSION:2.0
CALSCALE:GREGORIAN
BEGIN:VEVENT
UID:9c8c164c53673506960a47028842f0dc
DTSTAMP:20260425T125423Z
SUMMARY:Moon Circle
DESCRIPTION:Tidewater Jewish Foundation\nCalendar\nhttps://foundation.jewis
 hva.org/calendar/moon-circle-1690467408-453243\n\nMoon Circle: A monthly g
 athering to connect more deeply with ourselves\, each other and the sacred
  flow of the Hebrew calendar.\n\nWe invite you into a tradition that spans
  thousands of years: a monthly holiday known as Rosh Chodesh\, meaning "he
 ad of the month". In the Jewish tradition\, each month begins with a new m
 oon\, and the Hebrew calendar is the way the Jewish people have kept time 
 for millennia.\n\nFor the past few centuries\, Rosh Chodesh has been one o
 f Judaism&#39\;s best-kept secrets. We&#39\;...
DTSTART;TZID=America/New_York:20240118T184500
DTEND;TZID=America/New_York:20240118T201500
END:VEVENT
END:VCALENDAR
