BEGIN:VCALENDAR
PRODID:-//eluceo/ical//2.0/EN
VERSION:2.0
CALSCALE:GREGORIAN
BEGIN:VEVENT
UID:3fec56262eb19d82d21df69efa9ba6d8
DTSTAMP:20260422T143333Z
SUMMARY:Moon Circle
DESCRIPTION:Tidewater Jewish Foundation\nCalendar\nhttps://foundation.jewis
 hva.org/calendar/moon-circle-gathering-444471\n\nMoon Circle: A monthly ga
 thering to connect more deeply with ourselves\, each other and the sacred 
 flow of the Hebrew calendar.\n\nWe invite you into a tradition that spans 
 thousands of years: a monthly holiday known as Rosh Chodesh\, meaning "hea
 d of the month". In the Jewish tradition\, each month begins with a new mo
 on\, and the Hebrew calendar is the way the Jewish people have kept time f
 or millennia.\n\nFor the past few centuries\, Rosh Chodesh has been one of
  Judaism&#39\;s best-kept secrets. We&#39\;...
DTSTART;TZID=America/New_York:20231019T184500
DTEND;TZID=America/New_York:20231019T201500
END:VEVENT
END:VCALENDAR
