BEGIN:VCALENDAR
PRODID:-//eluceo/ical//2.0/EN
VERSION:2.0
CALSCALE:GREGORIAN
BEGIN:VEVENT
UID:a53952c9db2d27e447cfeb61e799b615
DTSTAMP:20260421T222846Z
SUMMARY:Moon Circle
DESCRIPTION:Tidewater Jewish Foundation\nCalendar\nhttps://foundation.jewis
 hva.org/calendar/moon-circle-gathering-444472\n\nSpecial Time this month!
   Starts at 6:15pm!\n\nMoon Circle: A monthly gathering to connect more d
 eeply with ourselves\, each other and the sacred flow of the Hebrew calend
 ar.\n\nWe invite you into a tradition that spans thousands of years: a mon
 thly holiday known as Rosh Chodesh\, meaning "head of the month". In the J
 ewish tradition\, each month begins with a new moon\, and the Hebrew calen
 dar is the way the Jewish people have kept time for millennia.\n\nFor the 
 past few centuries\, Rosh Chodesh ...
DTSTART;TZID=America/New_York:20231116T181500
DTEND;TZID=America/New_York:20231116T193000
END:VEVENT
END:VCALENDAR
