BEGIN:VCALENDAR
PRODID:-//eluceo/ical//2.0/EN
VERSION:2.0
CALSCALE:GREGORIAN
BEGIN:VEVENT
UID:d90a7c7784b41c9f0fceb7a39d3e4e94
DTSTAMP:20260424T181049Z
SUMMARY:Nadiv Dinner with Jeff Chernitzer
DESCRIPTION:Tidewater Jewish Foundation\nCalendar\nhttps://foundation.jewis
 hva.org/calendar/nadiv-dinner-with-jeff-chernitzer-444689\n\nJoin NADIV on
  September 6th at 6:00pm at the home of local community leader and philant
 hropist Jeff Chernitzer. Attendees will hear Jeff&#39\;s story and kickoff
  a year of professional networking and doing meaningful work in the Jewish
  community\, all while taking in the beautiful views from Jeff&#39\;s home
  overlooking the USS Wisconsin!\n\nQuestions?  Please contact Elana McGov
 ern at EMcGovern@UJFT.org or (757)965-6139.\n\n*Kosher Meals available by
  request - must be made by August 30th\n\nRegistrat...
DTSTART;TZID=America/New_York:20230906T180000
DTEND;TZID=America/New_York:20230906T200000
END:VEVENT
END:VCALENDAR
