BEGIN:VCALENDAR
PRODID:-//eluceo/ical//2.0/EN
VERSION:2.0
CALSCALE:GREGORIAN
BEGIN:VEVENT
UID:3b903f6d32f75151383990c3ec3b6c1d
DTSTAMP:20260423T203529Z
SUMMARY:National Senior Health and Fitness Day
DESCRIPTION:Tidewater Jewish Foundation\nCalendar\nhttps://foundation.jewis
 hva.org/calendar/national-senior-health-and-fitness-day-1681763030-435780\
 n\nThis is the nation&#39\;s largest annual older adult health and wellnes
 s event. Its goal is to keep older Americans healthy and fit while promoti
 ng an overall awareness of wellness.
DTSTART;TZID=America/New_York:20230531T090000
DTEND;TZID=America/New_York:20230531T140000
END:VEVENT
END:VCALENDAR
