BEGIN:VCALENDAR
PRODID:-//eluceo/ical//2.0/EN
VERSION:2.0
CALSCALE:GREGORIAN
BEGIN:VEVENT
UID:bcbbd2b4466422a32f6a7fe59f5624c6
DTSTAMP:20260426T015740Z
SUMMARY:New Year's Day
DESCRIPTION:Tidewater Jewish Foundation\nCalendar\nhttps://foundation.jewis
 hva.org/calendar/new-years-day-22-412613\n\n+
DTSTART;TZID=America/New_York:20230101T000000
DTEND;TZID=America/New_York:20230101T235959
END:VEVENT
END:VCALENDAR
