BEGIN:VCALENDAR
PRODID:-//eluceo/ical//2.0/EN
VERSION:2.0
CALSCALE:GREGORIAN
BEGIN:VEVENT
UID:9d2d16d95c47f37d46ebdcb635f08f7d
DTSTAMP:20260420T235527Z
SUMMARY:"Nobody Wants Us:" the Hampton Roads Story of the SS Quanza
DESCRIPTION:Tidewater Jewish Foundation\nCalendar\nhttps://foundation.jewis
 hva.org/calendar/nobody-wants-us-the-hampton-roads-story-of-the-ss-quanza-
 1706026825-458315\n\nIn a world where antisemitism is again on the rise an
 d immigration issues continue to make headlines\, the story of the SS Quan
 za remains relevant. Old Dominion University&#39\;s Institute for Jewish S
 tudies and Interfaith Understanding welcomes Laura Seltzer-Duny\, award wi
 nning PBS documentary and educational filmmaker\, to screen her film\, "No
 body Wants Us" and to learn about and honor the story of the SS Quanza and
  its ties to Hampton Roads history. Please join us in the University Theat
 re on Feb...
DTSTART;TZID=America/New_York:20240215T173000
DTEND;TZID=America/New_York:20240215T190000
END:VEVENT
END:VCALENDAR
