BEGIN:VCALENDAR
PRODID:-//eluceo/ical//2.0/EN
VERSION:2.0
CALSCALE:GREGORIAN
BEGIN:VEVENT
UID:169515082278832460c41e1dfa5559aa
DTSTAMP:20260425T131207Z
SUMMARY:ODU Hanukkah Menorah Lighting
DESCRIPTION:Tidewater Jewish Foundation\nCalendar\nhttps://foundation.jewis
 hva.org/calendar/odu-hanukkah-menorah-lighting-1700507620-452645\n\nPlease
  join Old Dominion University&#39\;s Hillel\, Institute for Jewish Studies
  and Interfaith Understanding\, and Jewish Caucus as they join together fo
 r a public menorah lighting on the first night of Hanukkah.
DTSTART;TZID=America/New_York:20231207T163000
DTEND;TZID=America/New_York:20231207T180000
END:VEVENT
END:VCALENDAR
