BEGIN:VCALENDAR
PRODID:-//eluceo/ical//2.0/EN
VERSION:2.0
CALSCALE:GREGORIAN
BEGIN:VEVENT
UID:e1ecdad6e365573966fadcdf053dbbd8
DTSTAMP:20260420T035215Z
SUMMARY:Ohef Sholom Temple Purim Carnival
DESCRIPTION:Tidewater Jewish Foundation\nCalendar\nhttps://foundation.jewis
 hva.org/calendar/ohef-sholom-temple-purim-carnival-1704325516-456873\n\nOh
 ef Sholom Temple will hold its annual Purim Carnival on Sunday\, March 17 
 from 10 a.m. to noon. This fun event\, for the whole family\, is a fundrai
 ser for Ohef Sholom Temple Youth (OSTY). Join us for games\, a vendor fair
 \, treats and more! Details coming soon.
DTSTART;TZID=America/New_York:20240317T093000
DTEND;TZID=America/New_York:20240317T120000
END:VEVENT
END:VCALENDAR
