BEGIN:VCALENDAR
PRODID:-//eluceo/ical//2.0/EN
VERSION:2.0
CALSCALE:GREGORIAN
BEGIN:VEVENT
UID:55af6221f899fb1e9ffcaa647443c85c
DTSTAMP:20260423T153436Z
SUMMARY:Ohef Sholom Temple Sisterhood Rummage Sale
DESCRIPTION:Tidewater Jewish Foundation\nCalendar\nhttps://foundation.jewis
 hva.org/calendar/ohef-sholom-temple-sisterhood-rummage-sale-1689775795-443
 414\n\nSisterhood’s Indoor Rummage Sale IS ON for 2023!\n\nWe will have 
 the following categories:\nFurniture (indoor and outdoor) Some are ANTIQUE
 !\nSports/Hobbies (exercise\, fishing\, camping\, etc.)\nChildren’s\nKit
 chen (everything you could possibly need or want)\nPurses\, wallets\, trav
 el bags\nHolidays (Christmas and Hanukkah)\nLinens (sheets\, comforters\, 
 towels)\nArtwork/picture frames/photo albums\nHousehold items (lamps\, car
 pets\, decorative items\, etc.)\nOffice Supplies and Electronics\nMusi...
DTSTART;TZID=America/New_York:20230820T080000
DTEND;TZID=America/New_York:20230820T133000
END:VEVENT
END:VCALENDAR
