BEGIN:VCALENDAR
PRODID:-//eluceo/ical//2.0/EN
VERSION:2.0
CALSCALE:GREGORIAN
BEGIN:VEVENT
UID:3a9fbd6f7dd5bd4c750e16e5f898ab80
DTSTAMP:20260420T075746Z
SUMMARY:ON--LINE AUCTION for The Jewish Museum & Cultural Center
DESCRIPTION:Tidewater Jewish Foundation\nCalendar\nhttps://foundation.jewis
 hva.org/calendar/on--line-auction-for-the-jewish-museum--cultural-center-1
 746654621-491445\n\nUnique auction items\, gift cards\, and experiences av
 ailable. Local winners are invited to collect their winnings at the museum
  on   May 29\, 2025 from 5:00 p.m.-7:00 p.m.  Light refreshments and tours
  will be available.  To register visit https//app.charityauctionstoday.com
 /auctions/2025-jmcc-auction-44146
DTSTART;TZID=America/New_York:20250512T000000
DTEND;TZID=America/New_York:20250524T235500
END:VEVENT
END:VCALENDAR
