BEGIN:VCALENDAR
PRODID:-//eluceo/ical//2.0/EN
VERSION:2.0
CALSCALE:GREGORIAN
BEGIN:VEVENT
UID:5bb705f6e3b6bab0093b2891d786bf0b
DTSTAMP:20260420T120130Z
SUMMARY:OST Board Meeting
DESCRIPTION:Tidewater Jewish Foundation\nCalendar\nhttps://foundation.jewis
 hva.org/calendar/ost-board-meeting-1719520641-470714\n\nThe Ohef Sholom Te
 mple Board will be having their monthly meeting.
DTSTART;TZID=America/New_York:20250220T183000
DTEND;TZID=America/New_York:20250220T200000
END:VEVENT
END:VCALENDAR
