BEGIN:VCALENDAR
PRODID:-//eluceo/ical//2.0/EN
VERSION:2.0
CALSCALE:GREGORIAN
BEGIN:VEVENT
UID:88ea33f0b4a9beaa8aa99e73cc0c56d1
DTSTAMP:20260423T152905Z
SUMMARY:OST: ECO-JUDAISM GARDENING
DESCRIPTION:Tidewater Jewish Foundation\nCalendar\nhttps://foundation.jewis
 hva.org/calendar/ost-eco-judaism-gardening-1661523681-415841\n\nDo you . .
  . Want to help to make the Ohef Sholom grounds more attractive? Need some
  fresh air and exercise? Want to visit with people at a distance and do so
 mething constructive for the OST?\n\nJoin the Eco Judaism Committee in hel
 ping make OST more attractive and environmentally friendly! There are seve
 ral gardening activities that people could help with around the grounds of
  OST. None of them are particularly difficult. If you are able to help\, i
 t would be greatly appreciated. Contact me t...
DTSTART;TZID=America/New_York:20220830T093000
DTEND;TZID=America/New_York:20220830T113000
END:VEVENT
END:VCALENDAR
