BEGIN:VCALENDAR
PRODID:-//eluceo/ical//2.0/EN
VERSION:2.0
CALSCALE:GREGORIAN
BEGIN:VEVENT
UID:74870f9d04e3859fa7f0351109006b84
DTSTAMP:20260423T221528Z
SUMMARY:OST: Men's Club Meeting
DESCRIPTION:Tidewater Jewish Foundation\nCalendar\nhttps://foundation.jewis
 hva.org/calendar/ost-mens-club-meeting-1661527691-415852\n\nThe Ohef Sholo
 m Temple’s Men’s Club is a fraternal organization whose goal is to pro
 vide service and support to the Temple and the community. Our programs edu
 cate and entertain our congregational members and the community. The Men
 ’s Club is an opportunity for those who are looking to do good works and
  enjoy camaraderie too.
DTSTART;TZID=America/New_York:20220907T190000
DTEND;TZID=America/New_York:20220907T203000
END:VEVENT
END:VCALENDAR
