BEGIN:VCALENDAR
PRODID:-//eluceo/ical//2.0/EN
VERSION:2.0
CALSCALE:GREGORIAN
BEGIN:VEVENT
UID:ec3b740f29cb0631b5ccee35a427ebc4
DTSTAMP:20260423T014520Z
SUMMARY:OST Sisterhood Rummage Sale
DESCRIPTION:Tidewater Jewish Foundation\nCalendar\nhttps://foundation.jewis
 hva.org/calendar/ost-sisterhood-rummage-sale-1689775664-443413\n\nSisterho
 od’s Indoor Rummage Sale IS ON for 2023!\n\nWe will have the following c
 ategories:\nFurniture (indoor and outdoor) Some are ANTIQUE!\nSports/Hobbi
 es (exercise\, fishing\, camping\, etc.)\nChildren’s\nKitchen (everythin
 g you could possibly need or want)\nPurses\, wallets\, travel bags\nHolida
 ys (Christmas and Hanukkah)\nLinens (sheets\, comforters\, towels)\nArtwor
 k/picture frames/photo albums\nHousehold items (lamps\, carpets\, decorati
 ve items\, etc.)\nOffice Supplies and Electronics\nMusi...
DTSTART;TZID=America/New_York:20230818T080000
DTEND;TZID=America/New_York:20230818T133000
END:VEVENT
END:VCALENDAR
