BEGIN:VCALENDAR
PRODID:-//eluceo/ical//2.0/EN
VERSION:2.0
CALSCALE:GREGORIAN
BEGIN:VEVENT
UID:28573af4a6836d1f8c0b97e46d441783
DTSTAMP:20260422T154812Z
SUMMARY:PJ Library Military Havdalah Event
DESCRIPTION:Tidewater Jewish Foundation\nCalendar\nhttps://foundation.jewis
 hva.org/calendar/pj-library-military-havdalah-event-1696533320-449785\n\nF
 REE for Local Jewish military families are welcome to join for this Havdal
 ah event. This event is run by PJ Library Military Parent Connector in con
 junction with Rabbi Yoni Warren. What to expect:\n- Drum Circle\, Havdalah
  songs\n- Make your own besamim kit\, Havdalah candle\, and decorate Kiddu
 sh cup.\n- Reading nook with Havdalah-related PJ Library books\n- dessert:
  fondue style-[all Kosher] marshmallows\, graham crackers\, Israeli chocol
 ate spread\n- take home cheat sheet for Havdalah blessing...
DTSTART;TZID=America/New_York:20231202T180000
DTEND;TZID=America/New_York:20231202T200000
END:VEVENT
END:VCALENDAR
