BEGIN:VCALENDAR
PRODID:-//eluceo/ical//2.0/EN
VERSION:2.0
CALSCALE:GREGORIAN
BEGIN:VEVENT
UID:95567983d53b55c5adcd0d54600178fd
DTSTAMP:20260423T051031Z
SUMMARY:Pre-Morocco Mission Get-Together
DESCRIPTION:Tidewater Jewish Foundation\nCalendar\nhttps://foundation.jewis
 hva.org/calendar/pre-morocco-mission-get-together-1686083521-439848\n\nPre
 -mission get-together for participants of the Oct/Nov 2023 UJFT Mission to
  Morocco.
DTSTART;TZID=America/New_York:20230815T183000
DTEND;TZID=America/New_York:20230815T203000
END:VEVENT
END:VCALENDAR
