BEGIN:VCALENDAR
PRODID:-//eluceo/ical//2.0/EN
VERSION:2.0
CALSCALE:GREGORIAN
BEGIN:VEVENT
UID:30e72265018d9e836364374be4eb3692
DTSTAMP:20260424T121053Z
SUMMARY:Pups at the Pool
DESCRIPTION:Tidewater Jewish Foundation\nCalendar\nhttps://foundation.jewis
 hva.org/calendar/pups-at-the-pool-446235\n\nIt&#39\;s end of season for th
 e Metzger Outdoor Water Park and you know what that means - Time to open t
 he pool to the pups!\n\nThis event is open to all dogs and their owners fo
 r a morning of doggie swim time for our canine friends. Welcoming members 
 and guests.\n\nAll dogs must be properly vaccinated and have a demeanor th
 at is cooperative with other dogs and people.\n\nBring a collar and leash 
 to the event\, as well as materials to clean up after any dog messes.  Se
 e you then!\n\nThis event is ...
DTSTART;TZID=America/New_York:20230910T080000
DTEND;TZID=America/New_York:20230910T100000
END:VEVENT
END:VCALENDAR
