BEGIN:VCALENDAR
PRODID:-//eluceo/ical//2.0/EN
VERSION:2.0
CALSCALE:GREGORIAN
BEGIN:VEVENT
UID:419dc07b3a8823950f58fddb063fdfe9
DTSTAMP:20260420T222008Z
SUMMARY:Rabbi Sacks Z"L Tidewater Community Book Club
DESCRIPTION:Tidewater Jewish Foundation\nCalendar\nhttps://foundation.jewis
 hva.org/calendar/rabbi-sacks-zl-tidewater-community-book-club-462604\n\nTh
 e Great Partnership at Temple Emanuel\n\nPlease allow information below to
  load:
DTSTART;TZID=America/New_York:20240428T100000
DTEND;TZID=America/New_York:20240428T113000
END:VEVENT
END:VCALENDAR
