BEGIN:VCALENDAR
PRODID:-//eluceo/ical//2.0/EN
VERSION:2.0
CALSCALE:GREGORIAN
BEGIN:VEVENT
UID:92832b09e8cc38018a11d5c634e193d4
DTSTAMP:20260422T020701Z
SUMMARY:Rebecca Clarren - The Cost of Free Land
DESCRIPTION:Tidewater Jewish Foundation\nCalendar\nhttps://foundation.jewis
 hva.org/calendar/rebecca-clarren-the-cost-of-free-land-448140\n\nRebecca C
 larren - The Cost of Free Land: Jews\, Lakota\, and an American Inheritanc
 e\n\n \n\n(Please wait for information below to load)
DTSTART;TZID=America/New_York:20231119T140000
DTEND;TZID=America/New_York:20231119T153000
END:VEVENT
END:VCALENDAR
