BEGIN:VCALENDAR
PRODID:-//eluceo/ical//2.0/EN
VERSION:2.0
CALSCALE:GREGORIAN
BEGIN:VEVENT
UID:ddc65aaf31ea1a028c746f53593450c3
DTSTAMP:20260425T221352Z
SUMMARY:Red Cross Blood Drive
DESCRIPTION:Tidewater Jewish Foundation\nCalendar\nhttps://foundation.jewis
 hva.org/calendar/red-cross-blood-drive-411694\n\nUJFT/JCC is proud to part
 ner with the American Red Cross and be a part of all they do for our commu
 nity\, our country and around the world. Our blood drive is important to p
 atients in need\, but the collection and distribution of blood is just a s
 mall part of all the Red Cross does. The enormity of what the Red Cross ac
 complishes every day is astounding and this is one of the reasons we chose
  them as one of our core community outreach partners.\n\n\n The Red Cross
  - needs to collect more than...
DTSTART;TZID=America/New_York:20221130T100000
DTEND;TZID=America/New_York:20221130T160000
END:VEVENT
END:VCALENDAR
