BEGIN:VCALENDAR
PRODID:-//eluceo/ical//2.0/EN
VERSION:2.0
CALSCALE:GREGORIAN
BEGIN:VEVENT
UID:205e49d51c261ee9659b2475959cbf7e
DTSTAMP:20260421T045841Z
SUMMARY:REVOLUTIONIZE YOUR RELATIONSHIP with THE SHMUZ
DESCRIPTION:Tidewater Jewish Foundation\nCalendar\nhttps://foundation.jewis
 hva.org/calendar/revolutionize-your-relationship-with-the-shmuz-445044\n\n
 Every smart young couple starts their marriage with the same dreams\, goal
 s and ideals. They’re 100% sure that they will live in married bliss for
 ever. Until they aren’t.\n\nMake sure that your marriage doesn’t succu
 mb to the same mistakes that Rabbi Shafier has seen so many others make. U
 nfold and unwind the pieces of your partnership so that you can understand
  your relationship from the inside out. \n\nDuring this program\, he will
  coach you on the practical techniques you need to brin...
DTSTART;TZID=America/New_York:20240210T201500
DTEND;TZID=America/New_York:20240210T213000
END:VEVENT
END:VCALENDAR
