BEGIN:VCALENDAR
PRODID:-//eluceo/ical//2.0/EN
VERSION:2.0
CALSCALE:GREGORIAN
BEGIN:VEVENT
UID:98e2bf2840084f8d4a3ac8026e16b5b6
DTSTAMP:20260425T193939Z
SUMMARY:Rock Shabbat
DESCRIPTION:Tidewater Jewish Foundation\nCalendar\nhttps://foundation.jewis
 hva.org/calendar/rock-shabbat-1698336024-450955\n\nAs we stand in solidari
 ty with Israel\, please join us for Beth El’s Rock Shabbat\, Friday nigh
 t\, October 27th in the Einhorn Pavilion at the Jewish Community Center.
DTSTART;TZID=America/New_York:20231027T183000
DTEND;TZID=America/New_York:20231027T203000
END:VEVENT
END:VCALENDAR
