BEGIN:VCALENDAR
PRODID:-//eluceo/ical//2.0/EN
VERSION:2.0
CALSCALE:GREGORIAN
BEGIN:VEVENT
UID:d8c50f495f6d2d7d1b1a78f12c5213d7
DTSTAMP:20260423T135905Z
SUMMARY:Rock Shabbat
DESCRIPTION:Tidewater Jewish Foundation\nCalendar\nhttps://foundation.jewis
 hva.org/calendar/rock-shabbat-1700684261-452826\n\nCelebrate the end of Ha
 nukkah with the Jewish community at Rock Shabbat on Friday\, December 15th
  at the Reba & Sam Sandler Family Campus.\n\n5:45 pm - Latkes & Sufganiyot
 \n6:30 pm - Rock Shabbat service\n\nRock Shabbat embraces your entire bein
 g in prayer\, you hear it\, feel it and sway with it. Not only does your v
 oice sing along\, but your spirit does too.\n\nRSVP to noelle@bethelnorfol
 k.com by Tuesday\, December 12th.
DTSTART;TZID=America/New_York:20231215T174500
DTEND;TZID=America/New_York:20231215T200000
END:VEVENT
END:VCALENDAR
